BEGIN:VCALENDAR
PRODID:-//github.com/rianjs/ical.net//NONSGML ical.net 4.0//EN
VERSION:2.0
BEGIN:VEVENT
DESCRIPTION:Gemeinsam radeln wir ins malerische Kirbachtal und besuchen ve
 rschiedene Bauernhöfe\, um unser Grillgut frisch einzukaufen.\nhttps://to
 uren-termine.adfc.de/radveranstaltung/181160-bike-grill
DTEND:20260418T150000Z
DTSTAMP:20260425T194300Z
DTSTART:20260418T070000Z
LOCATION:Kuhriosum (Kronenplatz)\, 74321 Bietigheim-Bissingen
SEQUENCE:0
SUMMARY:Bike & Grill
UID:8224180d-0f08-4534-8612-baac3299c357
URL:https://touren-termine.adfc.de/radveranstaltung/181160-bike-grill
END:VEVENT
END:VCALENDAR
