BEGIN:VCALENDAR
PRODID:-//github.com/rianjs/ical.net//NONSGML ical.net 4.0//EN
VERSION:2.0
BEGIN:VEVENT
DESCRIPTION:an den Südlichen Gardasee mit Italienischen Flair.\nhttps://to
 uren-termine.adfc.de/radveranstaltung/177010-an-den-sudlichen-gardasee-to
 lle-5-tagesradtour
DTEND;VALUE=DATE:20260416
DTSTAMP:20260425T153734Z
DTSTART;VALUE=DATE:20260412
LOCATION:Schelmenhofstraße\, 87600 Kaufbeuren
SEQUENCE:0
SUMMARY:An den südlichen Gardasee\, tolle 5 Tagesradtour
UID:3b060e8e-dc7b-41d8-9da5-fadcf294f8a2
URL:https://touren-termine.adfc.de/radveranstaltung/177010-an-den-sudliche
 n-gardasee-tolle-5-tagesradtour
END:VEVENT
END:VCALENDAR
