BEGIN:VCALENDAR
PRODID:-//github.com/rianjs/ical.net//NONSGML ical.net 4.0//EN
VERSION:2.0
BEGIN:VEVENT
DESCRIPTION:Jeden Montag findet morgens eine Radtour statt.\nhttps://toure
 n-termine.adfc.de/radveranstaltung/177328-montag-morgen-tour
DTEND:20251215T110000Z
DTSTAMP:20260423T201904Z
DTSTART:20251215T090000Z
LOCATION:In der Ahe 29\, 27356 Rotenburg
SEQUENCE:0
SUMMARY:Montag Morgen Tour
UID:a40727af-7388-463f-a1e1-a181da3ab3d9
URL:https://touren-termine.adfc.de/radveranstaltung/177328-montag-morgen-t
 our
END:VEVENT
END:VCALENDAR
