BEGIN:VCALENDAR
PRODID:-//github.com/rianjs/ical.net//NONSGML ical.net 4.0//EN
VERSION:2.0
BEGIN:VEVENT
DESCRIPTION:Einladung zur Mitgliederversammlung 2025 in der Lechsporthalle
 \, Lechstraße 8\nhttps://touren-termine.adfc.de/radveranstaltung/197176-m
 itgliederversammlung-2026
DTEND:20260423T200000Z
DTSTAMP:20260420T173029Z
DTSTART:20260423T170000Z
LOCATION:Lechstraße 8\,\, 86899 Landsberg am Lech
SEQUENCE:0
SUMMARY:Mitgliederversammlung 2026
UID:0eada03e-9d79-4cfc-8a2e-faec15aa1181
URL:https://touren-termine.adfc.de/radveranstaltung/197176-mitgliederversa
 mmlung-2026
END:VEVENT
END:VCALENDAR
