BEGIN:VCALENDAR
PRODID:-//github.com/rianjs/ical.net//NONSGML ical.net 4.0//EN
VERSION:2.0
BEGIN:VEVENT
DESCRIPTION:Rauf aufs Rad für eine Spritztour in die Umgebung von Gauting!
 \nWöchentlich wechselnd naturkundliche Touren und Cappuccino-Touren.\nHeu
 te: Zur Waldwirtschaft in Großhesselohe\nhttps://touren-termine.adfc.de/r
 adveranstaltung/105381-wochentliche-nachmittagstour-in-gauting
DTEND:20230808T150000Z
DTSTAMP:20260425T150800Z
DTSTART:20230808T120000Z
LOCATION:Rathaus\, Bahnhofstraße 7\, 82131 Gauting
SEQUENCE:0
SUMMARY:Wöchentliche Nachmittagstour in Gauting
UID:8e16249c-9d58-4f7f-9613-b5241dcb5bad
URL:https://touren-termine.adfc.de/radveranstaltung/105381-wochentliche-na
 chmittagstour-in-gauting
END:VEVENT
END:VCALENDAR
