BEGIN:VCALENDAR
PRODID:-//github.com/rianjs/ical.net//NONSGML ical.net 4.0//EN
VERSION:2.0
BEGIN:VEVENT
DESCRIPTION:Einfache Feierabendtour rund um Rinteln .Jeder (ideal auch als
  Einsteigertour)\, der ein verkehrssicheres Fahrrad besitzt und sich  auf
  dem Fahrrad wohl  fühlt\, kann gerne  teilnehmen.\nhttps://touren-termin
 e.adfc.de/radveranstaltung/178785-feierabendtour-rund-um-rinteln
DTEND:20260707T190000Z
DTSTAMP:20260420T210242Z
DTSTART:20260707T160000Z
LOCATION:Nachtwächter \, Marktplatz 6\, 31737 Rinteln
SEQUENCE:0
SUMMARY:Feierabendtour rund um Rinteln
UID:b78e9f14-6b3f-4cde-b8be-69bbe659eb43
URL:https://touren-termine.adfc.de/radveranstaltung/178785-feierabendtour-
 rund-um-rinteln
END:VEVENT
END:VCALENDAR
