BEGIN:VCALENDAR
PRODID:-//github.com/rianjs/ical.net//NONSGML ical.net 4.0//EN
VERSION:2.0
BEGIN:VEVENT
DESCRIPTION:Ein Rundkurs von Vaihingen aus\, der über eine Reihe von Radwe
 gebrücken führt.\nhttps://touren-termine.adfc.de/radveranstaltung/106779-
 radwegebruckentour
DTEND:20231003T160000Z
DTSTAMP:20260424T143211Z
DTSTART:20231003T070000Z
LOCATION:Bahnhof Vaihingen\, 70563 Stuttgart
SEQUENCE:0
SUMMARY:Radwegebrückentour
UID:26dac408-0dfe-4551-9873-f24c9d2f9521
URL:https://touren-termine.adfc.de/radveranstaltung/106779-radwegebruckent
 our
END:VEVENT
END:VCALENDAR
