BEGIN:VCALENDAR
PRODID:-//github.com/rianjs/ical.net//NONSGML ical.net 4.0//EN
VERSION:2.0
BEGIN:VEVENT
DESCRIPTION:Aufbaukurs Fahrradnavigation für erfahrene Komoot-Nutzer.Mit e
 igenem Laptop + Smartphone und guten PC-Kenntnissen. Wieder im Herbstprog
 ramm 2026 der VHS Kaufbeuren verfügbar !\nhttps://touren-termine.adfc.de/
 radveranstaltung/174137-abgesagt-komootworkshop-aufbaukurs
DTEND:20260312T200000Z
DTSTAMP:20260419T155606Z
DTSTART:20260312T170000Z
LOCATION:Buronstraße\, 87600 Kaufbeuren
SEQUENCE:0
SUMMARY:Abgesagt: Komoot-Workshop - Aufbaukurs.
UID:54428dd3-5f6d-4f1d-b751-697b7276b470
URL:https://touren-termine.adfc.de/radveranstaltung/174137-abgesagt-komoot
 workshop-aufbaukurs
END:VEVENT
END:VCALENDAR
