BEGIN:VCALENDAR
PRODID:-//github.com/rianjs/ical.net//NONSGML ical.net 4.0//EN
VERSION:2.0
BEGIN:VEVENT
DESCRIPTION:Feierabendtouren führen wir an jedem ersten Freitag im Monat d
 urch. Sie finden jeweils von Mai bis September statt.\nhttps://touren-ter
 mine.adfc.de/radveranstaltung/164807-feierabendtour
DTEND:20250606T180000Z
DTSTAMP:20260423T201429Z
DTSTART:20250606T160000Z
LOCATION:Große Straße 1\, 27356 Rotenburg
SEQUENCE:0
SUMMARY:Feierabendtour
UID:27861d85-ea1d-42d0-b5c7-19b16006bd68
URL:https://touren-termine.adfc.de/radveranstaltung/164807-feierabendtour
END:VEVENT
END:VCALENDAR
