BEGIN:VCALENDAR
PRODID:-//github.com/rianjs/ical.net//NONSGML ical.net 4.0//EN
VERSION:2.0
BEGIN:VEVENT
DESCRIPTION:30km lange Rundtour in die südliche Umgebung von Oranienburg\n
 https://touren-termine.adfc.de/radveranstaltung/168845-feierabendtour
DTEND:20250710T190000Z
DTSTAMP:20260425T232336Z
DTSTART:20250710T160000Z
LOCATION:Bahnhof\, 16515 Oranienburg
SEQUENCE:0
SUMMARY:Feierabendtour
UID:3f0e6675-3415-4cdb-8982-945deb111e94
URL:https://touren-termine.adfc.de/radveranstaltung/168845-feierabendtour
END:VEVENT
END:VCALENDAR
