BEGIN:VCALENDAR
PRODID:-//github.com/rianjs/ical.net//NONSGML ical.net 4.0//EN
VERSION:2.0
BEGIN:VEVENT
DESCRIPTION:Wir treffen uns jeden 1. Donnerstag eines Monats (außer August
 ) um 19:00 Uhr im Gasthaus Belfort in Kaufbeuren\, Mindelheimer Str. 35. 
 Fahrrad-Codierung möglich.\nhttps://touren-termine.adfc.de/radveranstaltu
 ng/145073-adfcstammtisch
DTEND:20250605T190000Z
DTSTAMP:20260419T155843Z
DTSTART:20250605T170000Z
LOCATION:Gasthaus Belfort\, Mindelheimer Straße 35\, 87600 Kaufbeuren
SEQUENCE:0
SUMMARY:ADFC-Stammtisch
UID:3c066611-bbbf-4eef-9f5f-16f4e93b5afa
URL:https://touren-termine.adfc.de/radveranstaltung/145073-adfcstammtisch
END:VEVENT
END:VCALENDAR
