BEGIN:VCALENDAR
PRODID:-//github.com/rianjs/ical.net//NONSGML ical.net 4.0//EN
VERSION:2.0
BEGIN:VEVENT
DESCRIPTION:Bei einer entspannten Radtour den erwachenden Frühling begrüße
 n. Eine Einkehr nach Absprache möglich.\nhttps://touren-termine.adfc.de/r
 adveranstaltung/150907-feierabendtour
DTEND:20250408T180000Z
DTSTAMP:20260421T114517Z
DTSTART:20250408T160000Z
LOCATION:Herzogin-Eleonore-Allee Am Teich Französischer Garten\, 29221 Cel
 le
SEQUENCE:0
SUMMARY:Feierabendtour
UID:9ae73a21-85c0-4a69-a676-9ea1d481e72a
URL:https://touren-termine.adfc.de/radveranstaltung/150907-feierabendtour
END:VEVENT
END:VCALENDAR
