BEGIN:VCALENDAR
PRODID:-//github.com/rianjs/ical.net//NONSGML ical.net 4.0//EN
VERSION:2.0
BEGIN:VEVENT
DESCRIPTION:Tagestour\nhttps://touren-termine.adfc.de/radveranstaltung/925
 74-tagestour-bourtangenl
DTEND:20230618T160000Z
DTSTAMP:20260421T101133Z
DTSTART:20230618T080000Z
LOCATION:Burgstraße 14 (K&K-Markt)\, Rhede/Ems\, 26899 Landkreis Emsland
SEQUENCE:0
SUMMARY:Tagestour Bourtange/NL
UID:cd442a92-858a-4677-8a7f-69b5277f829c
URL:https://touren-termine.adfc.de/radveranstaltung/92574-tagestour-bourta
 ngenl
END:VEVENT
END:VCALENDAR
