BEGIN:VCALENDAR
PRODID:-//github.com/rianjs/ical.net//NONSGML ical.net 4.0//EN
VERSION:2.0
BEGIN:VEVENT
DESCRIPTION:Eine schöne\, lange und angenehme Radtour mit Pause quer durch
  die Gemeinde Hagen im Bremischen.\nEntdecke die Sehenswürdigkeiten\, Wäl
 der und die Weser-Lage der südlichsten Gemeinde im Cuxland.\nhttps://tour
 en-termine.adfc.de/radveranstaltung/154542-quer-durch-hagen
DTEND:20250511T150000Z
DTSTAMP:20260421T052513Z
DTSTART:20250511T120000Z
LOCATION:Amtsplatz 3\, 27628 Hagen im Bremischen
SEQUENCE:0
SUMMARY:Quer durch Hagen
UID:c76803bd-aee5-43de-ba09-b2f42044761f
URL:https://touren-termine.adfc.de/radveranstaltung/154542-quer-durch-hagen
END:VEVENT
END:VCALENDAR
