BEGIN:VCALENDAR
PRODID:-//github.com/rianjs/ical.net//NONSGML ical.net 4.0//EN
VERSION:2.0
BEGIN:VEVENT
DESCRIPTION:Geführte ADFC-Radtour von Uelzen zum Elbers Hoffest nach Nette
 lkamp. Uns erwartet ein interessantes Angebot für die ganze Familie und a
 lt & jung. Legendär die große Strohburg für die Kids.\nhttps://touren-ter
 mine.adfc.de/radveranstaltung/170728-adfcradtour-zum-elbers-hoffest-nach-
 nettelkamp
DTEND:20250907T120000Z
DTSTAMP:20260424T161549Z
DTSTART:20250907T083000Z
LOCATION:Herzogenplatz\, 29525 Uelzen
SEQUENCE:0
SUMMARY:ADFC-Radtour zum Elbers Hoffest nach Nettelkamp
UID:660e6a70-72b4-4b1e-a946-da8bc84ad884
URL:https://touren-termine.adfc.de/radveranstaltung/170728-adfcradtour-zum
 -elbers-hoffest-nach-nettelkamp
END:VEVENT
END:VCALENDAR
