BEGIN:VCALENDAR
PRODID:-//github.com/rianjs/ical.net//NONSGML ical.net 4.0//EN
VERSION:2.0
BEGIN:VEVENT
DESCRIPTION:Die Radtour führt uns über Buchholz\, Bernsen\, Rehren\, Hatte
 ndorf\, Langenfeld zur Schillathöhle mit Einkehr. Weiter geht es über Seg
 elhorst\, Welsede nach Großenwieden über den Weserradweg nach Rinteln.\nh
 ttps://touren-termine.adfc.de/radveranstaltung/144304-radtour-ins-auetal
DTEND:20250817T140000Z
DTSTAMP:20260420T210028Z
DTSTART:20250817T080000Z
LOCATION:Nachtwächter \, Marktplatz 6\, 31737 Rinteln
SEQUENCE:0
SUMMARY:Radtour ins Auetal
UID:b206a15c-a0bc-4831-b48a-e9bca73a2c8f
URL:https://touren-termine.adfc.de/radveranstaltung/144304-radtour-ins-aue
 tal
END:VEVENT
END:VCALENDAR
