BEGIN:VCALENDAR
PRODID:-//github.com/rianjs/ical.net//NONSGML ical.net 4.0//EN
VERSION:2.0
BEGIN:VEVENT
DESCRIPTION:Lengenwang - Theorie sowie praktische Übungen für eine sichere
  Fahrtechnik wie Anfahren\, Bremsverhalten\, Bergabfahrten. Hilfreiche Ti
 pps zur Elektronik\, Akku-Behandlung. Anmeldeschluss: Do 08.05.2025\nhttp
 s://touren-termine.adfc.de/radveranstaltung/147217-fahrsicherheitstrainin
 g-etourenrad-level-2
DTEND:20250509T150000Z
DTSTAMP:20260419T155717Z
DTSTART:20250509T120000Z
LOCATION:Sportplatz Außerlengenwang\, 87663 Landkreis Ostallgäu
SEQUENCE:0
SUMMARY:Fahrsicherheitstraining E-Tourenrad - Level 2
UID:a07200c2-ba24-4705-bb2b-2d452973bba8
URL:https://touren-termine.adfc.de/radveranstaltung/147217-fahrsicherheits
 training-etourenrad-level-2
END:VEVENT
END:VCALENDAR
