BEGIN:VCALENDAR
PRODID:-//github.com/rianjs/ical.net//NONSGML ical.net 4.0//EN
VERSION:2.0
BEGIN:VEVENT
DESCRIPTION:Besuch des Herzogstands....... wenn`s Wetter poasst\, mit Trau
 mausblick!\nhttps://touren-termine.adfc.de/radveranstaltung/124117-klais-
 herzogstand
DTEND:20240616T160000Z
DTSTAMP:20260421T100751Z
DTSTART:20240616T054500Z
LOCATION:Bike & Ride Fahrradparkhaus\, 85221 Dachau
SEQUENCE:0
SUMMARY:Klais - Herzogstand
UID:37faf8c5-f29e-4d55-89bc-b88e8290e930
URL:https://touren-termine.adfc.de/radveranstaltung/124117-klais-herzogsta
 nd
END:VEVENT
END:VCALENDAR
