BEGIN:VCALENDAR
PRODID:-//github.com/rianjs/ical.net//NONSGML ical.net 4.0//EN
VERSION:2.0
BEGIN:VEVENT
DESCRIPTION:Eine sportliche Runde zum Hücker Moor.\nhttps://touren-termine
 .adfc.de/radveranstaltung/175399-huckermoorrunde
DTEND:20260815T160000Z
DTSTAMP:20260422T203107Z
DTSTART:20260815T070000Z
LOCATION:Kanzlers Weide Glacisbrücke\, 32423 Minden
SEQUENCE:0
SUMMARY:Hücker-Moor-Runde
UID:0fbe0046-e5e8-413c-b931-5dfbf84e2709
URL:https://touren-termine.adfc.de/radveranstaltung/175399-huckermoorrunde
END:VEVENT
END:VCALENDAR
