BEGIN:VCALENDAR
PRODID:-//github.com/rianjs/ical.net//NONSGML ical.net 4.0//EN
VERSION:2.0
BEGIN:VEVENT
DESCRIPTION:Eine Feierabendtour zum in die Pedale treten und den Alltag hi
 nter sich zu lassen.\nhttps://touren-termine.adfc.de/radveranstaltung/191
 151-einfach-radeln-nr-2
DTEND:20260427T173000Z
DTSTAMP:20260424T202248Z
DTSTART:20260427T150000Z
LOCATION:Schauturm im LGS-Gelände\, Dr.-Kurz-Str.\,\, 92318 Neumarkt in de
 r Oberpfalz
SEQUENCE:0
SUMMARY:Einfach radeln Nr. 2
UID:254ef51c-4af2-4f1d-ab22-5148a8519678
URL:https://touren-termine.adfc.de/radveranstaltung/191151-einfach-radeln-
 nr-2
END:VEVENT
END:VCALENDAR
