BEGIN:VCALENDAR
PRODID:-//github.com/rianjs/ical.net//NONSGML ical.net 4.0//EN
VERSION:2.0
BEGIN:VEVENT
DESCRIPTION:Tagestour auf den Brocken\nhttps://touren-termine.adfc.de/radv
 eranstaltung/194688-hoch-hinaus
DTEND:20260602T180000Z
DTSTAMP:20260421T102906Z
DTSTART:20260602T055000Z
LOCATION:Kurt-Schumacher-Straße 1\, 30974 Wennigsen (Deister)
SEQUENCE:0
SUMMARY:Hoch hinaus
UID:0a0b172b-3ed6-4272-af26-64d33e450f0c
URL:https://touren-termine.adfc.de/radveranstaltung/194688-hoch-hinaus
END:VEVENT
END:VCALENDAR
