BEGIN:VCALENDAR
PRODID:-//github.com/rianjs/ical.net//NONSGML ical.net 4.0//EN
VERSION:2.0
BEGIN:VEVENT
DESCRIPTION:Tagestour\nhttps://touren-termine.adfc.de/radveranstaltung/179
 834-tagestour-sellingennl
DTEND:20260607T160000Z
DTSTAMP:20260421T100721Z
DTSTART:20260607T080000Z
LOCATION:Burgstraße 14\, (K&K-Markt)\, Rhede\, 26899 Landkreis Emsland
SEQUENCE:0
SUMMARY:Tagestour Sellingen/NL
UID:337e3767-6b49-442c-855a-de2690d01a01
URL:https://touren-termine.adfc.de/radveranstaltung/179834-tagestour-selli
 ngennl
END:VEVENT
END:VCALENDAR
