BEGIN:VCALENDAR
PRODID:-//github.com/rianjs/ical.net//NONSGML ical.net 4.0//EN
VERSION:2.0
BEGIN:VEVENT
DESCRIPTION:Unsere Geschäftsstelle ist für alle Anliegen und offenen Frage
 n geöffnet.\nhttps://touren-termine.adfc.de/radveranstaltung/183860-offnu
 ngszeit-unserer-geschaftsstelle
DTEND:20261015T160000Z
DTSTAMP:20260421T115514Z
DTSTART:20261015T140000Z
LOCATION:Essen (Innenstadt)\, ADFC Essen Geschäftsstelle\, Rottstraße 5\, 
 45127 Essen
SEQUENCE:0
SUMMARY:Öffnungszeit unserer Geschäftsstelle
UID:9c14b94d-55aa-4bab-8c16-a28e6e2b03ca
URL:https://touren-termine.adfc.de/radveranstaltung/183860-offnungszeit-un
 serer-geschaftsstelle
END:VEVENT
END:VCALENDAR
