BEGIN:VCALENDAR
PRODID:-//github.com/rianjs/ical.net//NONSGML ical.net 4.0//EN
VERSION:2.0
BEGIN:VEVENT
DESCRIPTION:Feierabendtouren in die nähere Umgebung\, Distanz 20 - 30 km\,
  oft mit Einkehr.\nhttps://touren-termine.adfc.de/radveranstaltung/187677
 -gilchinger-feierabendtour
DTEND:20260626T180000Z
DTSTAMP:20260425T150752Z
DTSTART:20260626T150000Z
LOCATION:Marktplatz\, 82205 Gilching
SEQUENCE:0
SUMMARY:Gilchinger Feierabendtour
UID:e80db3c4-37fc-49da-a3b7-808260596765
URL:https://touren-termine.adfc.de/radveranstaltung/187677-gilchinger-feie
 rabendtour
END:VEVENT
END:VCALENDAR
