BEGIN:VCALENDAR
PRODID:-//github.com/rianjs/ical.net//NONSGML ical.net 4.0//EN
VERSION:2.0
BEGIN:VEVENT
DESCRIPTION:Treffen der OpenStreetMap-Community aus Essen & Umgebung.\n\n\
 nDiese Treffen sollen dazu dienen\, die Materie OSM näher zubringen\, als
  auch diverse OSM bezogene Sachen zu besprechen.\nhttps://touren-termine.
 adfc.de/radveranstaltung/190046-essener-openstreetmaptreffen-osm
DTEND:20261003T190000Z
DTSTAMP:20260421T115545Z
DTSTART:20261003T170000Z
LOCATION:Essen (Innenstadt)\, ADFC Essen Geschäftsstelle\, Rottstraße 5\, 
 45127 Essen
SEQUENCE:0
SUMMARY:Essener OpenStreetMap-Treffen (OSM)
UID:904c0a72-700e-4214-b674-5c21642a8d4c
URL:https://touren-termine.adfc.de/radveranstaltung/190046-essener-openstr
 eetmaptreffen-osm
END:VEVENT
END:VCALENDAR
