BEGIN:VCALENDAR
PRODID:-//github.com/rianjs/ical.net//NONSGML ical.net 4.0//EN
VERSION:2.0
BEGIN:VEVENT
DESCRIPTION:Niemand ist perfekt\, das Radwegesystem in Cuxhaven schon gar 
 nicht!\nWir unterhalten uns über alle Dinge rund ums Fahrrad und nehmen W
 ünsche und Anregungen an.\nhttps://touren-termine.adfc.de/radveranstaltun
 g/142261-kaffeestunde
DTEND:20250804T150000Z
DTSTAMP:20260421T022729Z
DTSTART:20250804T130000Z
LOCATION:Bürgerbahnhof\, Am Bahnhof 1\, 27472 Cuxhaven
SEQUENCE:0
SUMMARY:Kaffeestunde
UID:28d8df1c-326c-4bc5-87d8-439585eeb05e
URL:https://touren-termine.adfc.de/radveranstaltung/142261-kaffeestunde
END:VEVENT
END:VCALENDAR
