BEGIN:VCALENDAR
PRODID:-//github.com/rianjs/ical.net//NONSGML ical.net 4.0//EN
VERSION:2.0
BEGIN:VEVENT
DESCRIPTION:Wir radeln eine gemütliche Runde zu verschiedenen Zielen in de
 r Stadt und genießen dabei Hamburg-Flair\, Natur und Adfc-Geselligkeit. \
 nNicht bei Regenwetter.\nhttps://touren-termine.adfc.de/radveranstaltung/
 129428-wandsbeker-feierabendcruise
DTEND:20240620T183000Z
DTSTAMP:20260420T232101Z
DTSTART:20240620T163000Z
LOCATION:Liegewiese im Eichtalpark mit ovaler Skulptur\, 22041 Hamburg\, W
 andsbek
SEQUENCE:0
SUMMARY:Wandsbeker Feierabendcruise
UID:471684de-c7a1-4af3-a168-74f15e3aa8d5
URL:https://touren-termine.adfc.de/radveranstaltung/129428-wandsbeker-feie
 rabendcruise
END:VEVENT
END:VCALENDAR
