BEGIN:VCALENDAR
PRODID:-//github.com/rianjs/ical.net//NONSGML ical.net 4.0//EN
VERSION:2.0
BEGIN:VEVENT
DESCRIPTION:Radtour mit Badeausflug\nhttps://touren-termine.adfc.de/radver
 anstaltung/102584-pack-die-badehose-ein
DTEND:20230805T150000Z
DTSTAMP:20260419T181849Z
DTSTART:20230805T090000Z
LOCATION:S-Bahnhof Wedel\, 22880 Wedel
SEQUENCE:0
SUMMARY:Pack die Badehose ein!
UID:cf7c0f59-05bd-4606-853c-876450a84ac4
URL:https://touren-termine.adfc.de/radveranstaltung/102584-pack-die-badeho
 se-ein
END:VEVENT
END:VCALENDAR
