BEGIN:VCALENDAR
PRODID:-//github.com/rianjs/ical.net//NONSGML ical.net 4.0//EN
VERSION:2.0
BEGIN:VEVENT
DESCRIPTION:Auch 2024 setzen Radfahrende in Essen ein Zeichen für ihre Sic
 herheit und fahren schweigend durch die Stadt und erinnern an Radfahrer*i
 nnen\, die im Straßenverkehr verletzt oder getötet wurden.\nhttps://toure
 n-termine.adfc.de/radveranstaltung/118539-ride-of-silence-essen-2024
DTEND:20240515T190000Z
DTSTAMP:20260419T182146Z
DTSTART:20240515T170000Z
LOCATION:Hirschlandplatz\, 45127 Essen
SEQUENCE:0
SUMMARY:Ride of Silence Essen 2024
UID:e9d03a28-de57-4b65-91df-2045864bf86e
URL:https://touren-termine.adfc.de/radveranstaltung/118539-ride-of-silence
 -essen-2024
END:VEVENT
END:VCALENDAR
