BEGIN:VCALENDAR
PRODID:-//github.com/rianjs/ical.net//NONSGML ical.net 4.0//EN
VERSION:2.0
BEGIN:VEVENT
DESCRIPTION:Eine Radtour auf der Suche nach dem sogenannten Radschnellweg\
 nhttps://touren-termine.adfc.de/radveranstaltung/118545-auf-der-suche-nac
 h-dem-rs1-west
DTEND:20240825T110000Z
DTSTAMP:20260421T121454Z
DTSTART:20240825T080000Z
LOCATION:Willy-Brandt-Platz\, 45127 Essen
SEQUENCE:0
SUMMARY:Auf der Suche nach dem RS1 (West)
UID:3f68fbe3-6a35-44a2-b48c-acfb63d61102
URL:https://touren-termine.adfc.de/radveranstaltung/118545-auf-der-suche-n
 ach-dem-rs1-west
END:VEVENT
END:VCALENDAR
