BEGIN:VCALENDAR
PRODID:-//github.com/rianjs/ical.net//NONSGML ical.net 4.0//EN
VERSION:2.0
BEGIN:VEVENT
DESCRIPTION:Fahrrad-Demonstration für einen sicheren Radweg auf der Marien
 felder Allee.\nDer ADFC Tempelhof setzt sich zusammen mit weiteren Akteur
 en für sicheren Verkehr in Marienfelde ein.\nhttps://touren-termine.adfc.
 de/radveranstaltung/158550-wir-wollen-sicheren-verkehr-in-marienfelde
DTEND:20250401T163000Z
DTSTAMP:20260424T045938Z
DTSTART:20250401T150000Z
LOCATION:Marienfelder Allee/Ecke Stegerwaldstraße\, 12277 Berlin
SEQUENCE:0
SUMMARY:Wir wollen sicheren Verkehr in Marienfelde
UID:dabd708f-e2cf-4a2c-a082-b2e7e46eab15
URL:https://touren-termine.adfc.de/radveranstaltung/158550-wir-wollen-sich
 eren-verkehr-in-marienfelde
END:VEVENT
END:VCALENDAR
