BEGIN:VCALENDAR
PRODID:-//github.com/rianjs/ical.net//NONSGML ical.net 4.0//EN
VERSION:2.0
BEGIN:VEVENT
DESCRIPTION:Am Sonntag\, den 2. Juni 2024 findet die große ADFC-Sternfahrt
  statt. Aus Berlin und der ganzen Region fahren zehntausende Radfahrer:in
 nen zum Großen Stern - Sei dabei!\nhttps://touren-termine.adfc.de/radvera
 nstaltung/113296-sternfahrt-adfc-berlin
DTEND;VALUE=DATE:20240602
DTSTAMP:20260421T233105Z
DTSTART;VALUE=DATE:20240602
LOCATION:20 Routen aus Berlin und Brandenburg\, 10785 Berlin
SEQUENCE:0
SUMMARY:Sternfahrt ADFC Berlin
UID:1fb4804c-3859-4ec0-8b67-ee66c5b9bd08
URL:https://touren-termine.adfc.de/radveranstaltung/113296-sternfahrt-adfc
 -berlin
END:VEVENT
END:VCALENDAR
