BEGIN:VCALENDAR
PRODID:-//github.com/rianjs/ical.net//NONSGML ical.net 4.0//EN
VERSION:2.0
BEGIN:VEVENT
DESCRIPTION:Monatlicher Stammtisch von interessierten Radlerinnen und Radl
 ern. Jeweils am letzten Dienstag im \nMonat\nhttps://touren-termine.adfc.
 de/radveranstaltung/96234-radlertreff-des-adfc-hamburg
DTEND:20230926T210000Z
DTSTAMP:20260421T025348Z
DTSTART:20230926T170000Z
LOCATION:Gasthaus Quartier 21\, Fuhlsbüttler Straße 405\, 22309 Hamburg
SEQUENCE:0
SUMMARY:Radlertreff des ADFC Hamburg
UID:32ac93c4-39c5-4ae9-b3c9-169c8acd43d8
URL:https://touren-termine.adfc.de/radveranstaltung/96234-radlertreff-des-
 adfc-hamburg
END:VEVENT
END:VCALENDAR
