BEGIN:VCALENDAR
PRODID:-//github.com/rianjs/ical.net//NONSGML ical.net 4.0//EN
VERSION:2.0
BEGIN:VEVENT
DESCRIPTION:Öffentlicher Stammtisch des Kreisverbandes Kempten-Oberallgäu\
 nhttps://touren-termine.adfc.de/radveranstaltung/184637-radlerstammtisch-
 in-kempten
DTEND:20260716T200000Z
DTSTAMP:20260424T115125Z
DTSTART:20260716T180000Z
LOCATION:swoboda alpin\, Aybühlweg 69\, 87439 Kempten (Allgäu)
SEQUENCE:0
SUMMARY:Radlerstammtisch in Kempten
UID:ac6114c2-e6cf-4f03-af7e-54998687e2d6
URL:https://touren-termine.adfc.de/radveranstaltung/184637-radlerstammtisc
 h-in-kempten
END:VEVENT
END:VCALENDAR
