BEGIN:VCALENDAR
PRODID:-//github.com/rianjs/ical.net//NONSGML ical.net 4.0//EN
VERSION:2.0
BEGIN:VEVENT
DESCRIPTION:Nach einer Bahnfahrt starten wir in Pfaffenhofen/Ilm durch die
  Hallertau\, queren die Donau und entlang der Schwarzen Laber geht es nac
 h Neumarkt/Oberpfalz.\nhttps://touren-termine.adfc.de/radveranstaltung/16
 5192-auf-den-spuren-des-bieres
DTEND:20250722T150000Z
DTSTAMP:20260421T101242Z
DTSTART:20250719T061500Z
LOCATION:Bahnhofplatz\, 91301 Forchheim
SEQUENCE:0
SUMMARY:Auf den Spuren des Bieres
UID:b114c8a2-f802-4546-9919-393e67d6b9e8
URL:https://touren-termine.adfc.de/radveranstaltung/165192-auf-den-spuren-
 des-bieres
END:VEVENT
END:VCALENDAR
