BEGIN:VCALENDAR
PRODID:-//github.com/rianjs/ical.net//NONSGML ical.net 4.0//EN
VERSION:2.0
BEGIN:VEVENT
DESCRIPTION:Auch bekannt als das Arbeitsessen der Celler Radler\nhttps://t
 ouren-termine.adfc.de/radveranstaltung/120284-monatliches-treffen
DTEND:20240306T190000Z
DTSTAMP:20260421T151739Z
DTSTART:20240306T173000Z
LOCATION:Hattendorffstraße 1\, 29225 Celle
SEQUENCE:0
SUMMARY:Monatliches Treffen
UID:3375e4a5-976f-4be6-9058-086ce8326751
URL:https://touren-termine.adfc.de/radveranstaltung/120284-monatliches-tre
 ffen
END:VEVENT
END:VCALENDAR
