BEGIN:VCALENDAR
PRODID:-//github.com/rianjs/ical.net//NONSGML ical.net 4.0//EN
VERSION:2.0
BEGIN:VEVENT
DESCRIPTION:Radtour Pommersfelden\, Schmausenkeller\, Schwarzkreuzkeller\n
 https://touren-termine.adfc.de/radveranstaltung/113295-radtour-pommersfel
 den
DTEND:20240609T150000Z
DTSTAMP:20260421T101045Z
DTSTART:20240609T080000Z
LOCATION:Nürnberger Tor\, 91301 Forchheim
SEQUENCE:0
SUMMARY:Radtour Pommersfelden
UID:c1aba0a8-b2b1-4d21-9c55-f4092a0dc6b3
URL:https://touren-termine.adfc.de/radveranstaltung/113295-radtour-pommers
 felden
END:VEVENT
END:VCALENDAR
