BEGIN:VCALENDAR
PRODID:-//github.com/rianjs/ical.net//NONSGML ical.net 4.0//EN
VERSION:2.0
BEGIN:VEVENT
DESCRIPTION:Lockere Feierabendtour\nhttps://touren-termine.adfc.de/radvera
 nstaltung/196978-brotzeit-beim-haderecker
DTEND:20260910T190000Z
DTSTAMP:20260421T100722Z
DTSTART:20260910T160000Z
LOCATION:Bike & Ride Fahrradparkhaus\, 85221 Dachau
SEQUENCE:0
SUMMARY:Brotzeit beim Haderecker
UID:8cc478ed-9258-4300-8902-70c5cd85f0e8
URL:https://touren-termine.adfc.de/radveranstaltung/196978-brotzeit-beim-h
 aderecker
END:VEVENT
END:VCALENDAR
