BEGIN:VCALENDAR
PRODID:-//github.com/rianjs/ical.net//NONSGML ical.net 4.0//EN
VERSION:2.0
BEGIN:VEVENT
DESCRIPTION:Haaßehügel Schwalmstadt - Frankenhain - Katzbach Tal - Sachsen
 hausen - Gilserberg - Moischeid\nhttps://touren-termine.adfc.de/radverans
 taltung/195516-freddys-2-rad-shop-fruhlingsfest
DTEND:20260329T140000Z
DTSTAMP:20260421T125831Z
DTSTART:20260329T080000Z
LOCATION:Bahnradweg Rotkäppchenland\, 34613 Treysa
SEQUENCE:0
SUMMARY:Freddys 2 Rad Shop Frühlingsfest
UID:3bee9d49-8f41-4b44-8926-e2f9f7af11b6
URL:https://touren-termine.adfc.de/radveranstaltung/195516-freddys-2-rad-s
 hop-fruhlingsfest
END:VEVENT
END:VCALENDAR
