BEGIN:VCALENDAR
PRODID:-//github.com/rianjs/ical.net//NONSGML ical.net 4.0//EN
VERSION:2.0
BEGIN:VEVENT
DESCRIPTION:Mit ein paar steilen Steigungen über den Leimbachtalradweg zum
  Rödgen und nach Niederdielfen. Teile der Steigung auf unbefestigten Wald
 wegen.  Anschließend Stammtisch in der Hammerhütte.\nhttps://touren-termi
 ne.adfc.de/radveranstaltung/135033-feierabendtour-siegen-ubers-rodgen
DTEND:20240903T174000Z
DTSTAMP:20260422T234717Z
DTSTART:20240903T160000Z
LOCATION:Jakob-Scheiner-Platz\, 57072 Siegen
SEQUENCE:0
SUMMARY:Feierabendtour Siegen: übers Rödgen
UID:a7277d02-1715-43d9-9216-5984fe7489d8
URL:https://touren-termine.adfc.de/radveranstaltung/135033-feierabendtour-
 siegen-ubers-rodgen
END:VEVENT
END:VCALENDAR
