BEGIN:VCALENDAR
PRODID:-//github.com/rianjs/ical.net//NONSGML ical.net 4.0//EN
VERSION:2.0
BEGIN:VEVENT
DESCRIPTION:Wir werden weitgehend auf ruhigen Landstraßen die schönsten St
 recken und Aussichten Rheinhessens entdecken.\nhttps://touren-termine.adf
 c.de/radveranstaltung/82459-aussichtsreiches-rheinhessen
DTEND:20230723T160000Z
DTSTAMP:20260421T160115Z
DTSTART:20230723T080000Z
LOCATION:Malakoff-Terrasse\, 55116 Mainz
SEQUENCE:0
SUMMARY:Aussichtsreiches Rheinhessen
UID:e70999aa-990a-48b7-aeb1-59944c09fc6d
URL:https://touren-termine.adfc.de/radveranstaltung/82459-aussichtsreiches
 -rheinhessen
END:VEVENT
END:VCALENDAR
