BEGIN:VCALENDAR
PRODID:-//github.com/rianjs/ical.net//NONSGML ical.net 4.0//EN
VERSION:2.0
BEGIN:VEVENT
DESCRIPTION:Kinder- und fahrradfreundliche Mobilität beginnt vor Ort\nhttp
 s://touren-termine.adfc.de/radveranstaltung/162397-kidical-mass-fahrradde
 mo-in-fellbach
DTEND:20250517T143000Z
DTSTAMP:20260423T053327Z
DTSTART:20250517T130000Z
LOCATION:Schwabenlandhalle\,Guntram Palm Platz\, 70734 Fellbach
SEQUENCE:0
SUMMARY:Kidical Mass - Fahrraddemo in Fellbach
UID:14005239-ddf3-4a66-8f01-4b4db886809f
URL:https://touren-termine.adfc.de/radveranstaltung/162397-kidical-mass-fa
 hrraddemo-in-fellbach
END:VEVENT
END:VCALENDAR
