BEGIN:VCALENDAR
PRODID:-//github.com/rianjs/ical.net//NONSGML ical.net 4.0//EN
VERSION:2.0
BEGIN:VEVENT
DESCRIPTION:Komoot-Schulung Modul 1\nhttps://touren-termine.adfc.de/radver
 anstaltung/119165-komootschulung-modul-1
DTEND:20240214T184500Z
DTSTAMP:20260421T151924Z
DTSTART:20240214T170000Z
LOCATION:Siemensplatz\, 29223 Celle
SEQUENCE:0
SUMMARY:Komoot-Schulung Modul 1
UID:c4e93201-eb3c-4990-8efe-5216dce749e4
URL:https://touren-termine.adfc.de/radveranstaltung/119165-komootschulung-
 modul-1
END:VEVENT
END:VCALENDAR
