BEGIN:VCALENDAR
PRODID:-//github.com/rianjs/ical.net//NONSGML ical.net 4.0//EN
VERSION:2.0
BEGIN:VEVENT
DESCRIPTION:Das Ziel der Tour wird zu Beginn bekanngegeben. Anschließend G
 elegenheit zur gemeinsamen Einkehr.\nhttps://touren-termine.adfc.de/radve
 ranstaltung/99889-feierabendtour
DTEND:20230901T180000Z
DTSTAMP:20260421T100910Z
DTSTART:20230901T160000Z
LOCATION: Rheidt\, kath. Kirche\, 53859 Niederkassel
SEQUENCE:0
SUMMARY:Feierabendtour
UID:4b5ef422-e322-4295-aff9-fac62c499a60
URL:https://touren-termine.adfc.de/radveranstaltung/99889-feierabendtour
END:VEVENT
END:VCALENDAR
