BEGIN:VCALENDAR
PRODID:-//github.com/rianjs/ical.net//NONSGML ical.net 4.0//EN
VERSION:2.0
BEGIN:VEVENT
DESCRIPTION:Wir bieten verschiedene Strecken zwischen 25 km und 35 km Läng
 e mit einer Fahrtdauer von ca. 2 Stunden an.\nhttps://touren-termine.adfc
 .de/radveranstaltung/178403-feierabendtour-parkplatz-donauarena
DTEND:20260715T190000Z
DTSTAMP:20260420T082751Z
DTSTART:20260715T160000Z
LOCATION:Parkplatz Donau-Arena\, Walhalla-Allee\, 93055 Regensburg
SEQUENCE:0
SUMMARY:Feierabendtour: Parkplatz Donau-Arena
UID:a04e41be-f3dd-4f46-8cb2-9ced9f936a42
URL:https://touren-termine.adfc.de/radveranstaltung/178403-feierabendtour-
 parkplatz-donauarena
END:VEVENT
END:VCALENDAR
