BEGIN:VCALENDAR
PRODID:-//github.com/rianjs/ical.net//NONSGML ical.net 4.0//EN
VERSION:2.0
BEGIN:VEVENT
DESCRIPTION:Ab KW mit der Bahn nach Grunow (Niederlausitz)\, nach Weichens
 dorf auf dem neuen Heideradweg nach Lieberose zum Sommerfest\, weiter nac
 h Peitz und danach durch den Spreewald zum Bhf. Vetschau.\nhttps://touren
 -termine.adfc.de/radveranstaltung/105186-sommerfest-in-der-lieberoser-hei
 de
DTEND:20230813T180000Z
DTSTAMP:20260425T132841Z
DTSTART:20230813T072500Z
LOCATION:Bahnhof Königs Wusterhausen Gleis 3\, 15711 Königs Wusterhausen
SEQUENCE:0
SUMMARY:Sommerfest in der Lieberoser Heide
UID:a91a1580-9a50-4502-83c6-a5b56836f2d2
URL:https://touren-termine.adfc.de/radveranstaltung/105186-sommerfest-in-d
 er-lieberoser-heide
END:VEVENT
END:VCALENDAR
