BEGIN:VCALENDAR
PRODID:-//github.com/rianjs/ical.net//NONSGML ical.net 4.0//EN
VERSION:2.0
BEGIN:VEVENT
DESCRIPTION:Fast ampelfrei auf grünen Wegen aus Berlin nach Süden. Am Temp
 elhofer Feld entlang nach Rudow in Richtung Flughafen und über Blankenfel
 de an den Rangsdorfer See. Über Großbeeren zurück bis Schöneberg.\nhttps:
 //touren-termine.adfc.de/radveranstaltung/129360-abenteuerliche-pfade-sud
 lich-von-berlin
DTEND:20240401T150000Z
DTSTAMP:20260425T131939Z
DTSTART:20240401T080000Z
LOCATION:ADFC Velokiez\, Möckernstraße 47\, 10963 Berlin
SEQUENCE:0
SUMMARY:Abenteuerliche Pfade südlich von Berlin
UID:73d9e2f9-bec7-4c4c-80c9-08612149c486
URL:https://touren-termine.adfc.de/radveranstaltung/129360-abenteuerliche-
 pfade-sudlich-von-berlin
END:VEVENT
END:VCALENDAR
