BEGIN:VCALENDAR
PRODID:-//github.com/rianjs/ical.net//NONSGML ical.net 4.0//EN
VERSION:2.0
BEGIN:VEVENT
DESCRIPTION:Diese Mittagstour (inkl. Einkehr) führt über eine leichte und 
 ebene Strecke\, die teilweise auf Waldwegen verläuft. Sie ist für alle ge
 eignet\, die ihr Rad sicher beherrschen.\nhttps://touren-termine.adfc.de/
 radveranstaltung/147716-gemutliche-mittagstour-ab-hassloch
DTEND:20250612T120000Z
DTSTAMP:20260425T173447Z
DTSTART:20250612T090000Z
LOCATION:Rathausplatz\, 67454 Haßloch
SEQUENCE:0
SUMMARY:Gemütliche Mittagstour ab Haßloch
UID:908fc7a7-b11d-4551-a2f4-ab16f3bcf0cc
URL:https://touren-termine.adfc.de/radveranstaltung/147716-gemutliche-mitt
 agstour-ab-hassloch
END:VEVENT
END:VCALENDAR
