BEGIN:VCALENDAR
PRODID:-//github.com/rianjs/ical.net//NONSGML ical.net 4.0//EN
VERSION:2.0
BEGIN:VEVENT
DESCRIPTION:Winter-Überraschungstour\nhttps://touren-termine.adfc.de/radve
 ranstaltung/173751-winteruberraschungstour
DTEND:20260118T150000Z
DTSTAMP:20260422T203012Z
DTSTART:20260118T110000Z
LOCATION:Vinckestraße 1 ADFC-Büro\, 32423 Minden
SEQUENCE:0
SUMMARY:Winter-Überraschungstour
UID:ed648731-d31b-4e74-9425-1731f9525aa1
URL:https://touren-termine.adfc.de/radveranstaltung/173751-winteruberrasch
 ungstour
END:VEVENT
END:VCALENDAR
