BEGIN:VCALENDAR
PRODID:-//github.com/rianjs/ical.net//NONSGML ical.net 4.0//EN
VERSION:2.0
BEGIN:VEVENT
DESCRIPTION:Zum Wochenausklang radeln wir gemeinsam aus der Stadt heraus u
 nd genießen zusammen den Feierabend.\nUnterwegs ist ein kurzer Halt vorge
 sehen.\nhttps://touren-termine.adfc.de/radveranstaltung/191434-entspannt-
 ins-wochenende
DTEND:20260619T180000Z
DTSTAMP:20260423T165921Z
DTSTART:20260619T160000Z
LOCATION:Nürnberg\, U-Bahn-Station Röthenbach\, am Aufzug\, 90449 Nürnberg
 \, 90449 Nürnberg
SEQUENCE:0
SUMMARY:Entspannt ins Wochenende
UID:1c70002c-562d-4817-b33a-d4a90e3f240f
URL:https://touren-termine.adfc.de/radveranstaltung/191434-entspannt-ins-w
 ochenende
END:VEVENT
END:VCALENDAR
